BEGIN:VCALENDAR
VERSION:2.0
PRODID:-//Vive Ceuta - ECPv6.15.20//NONSGML v1.0//EN
CALSCALE:GREGORIAN
METHOD:PUBLISH
X-WR-CALNAME:Vive Ceuta
X-ORIGINAL-URL:https://viveceuta.es
X-WR-CALDESC:Eventos para Vive Ceuta
REFRESH-INTERVAL;VALUE=DURATION:PT1H
X-Robots-Tag:noindex
X-PUBLISHED-TTL:PT1H
BEGIN:VTIMEZONE
TZID:UTC
BEGIN:STANDARD
TZOFFSETFROM:+0000
TZOFFSETTO:+0000
TZNAME:UTC
DTSTART:20250101T000000
END:STANDARD
END:VTIMEZONE
BEGIN:VEVENT
DTSTART;TZID=UTC:20260416T080000
DTEND;TZID=UTC:20260430T170000
DTSTAMP:20260422T104221
CREATED:20260417T085437Z
LAST-MODIFIED:20260417T085437Z
UID:2636-1776326400-1777568400@viveceuta.es
SUMMARY:El Observador
DESCRIPTION:«El Observador» de Antonio Herrera Valderas es una exposición fotográfica que te invita a detenerte\, observar y reflexionar a través de una cuidada selección de imágenes cargadas de simbolismo y sensibilidad artística. Una propuesta que conecta con la mirada interior y la forma en la que interpretamos lo que nos rodea.
URL:https://viveceuta.es/evento/el-observador/
LOCATION:Biblioteca Publica Adolfo Suarez\, C/ Manuel Olivencia Amor\, Ceuta\, Ceuta\, 51001\, Spain
CATEGORIES:Exposición,Fotografía
ATTACH;FMTTYPE=image/webp:https://viveceuta.es/wp-content/uploads/2026/04/viveceuta_img155.webp
END:VEVENT
BEGIN:VEVENT
DTSTART;TZID=UTC:20260425T193000
DTEND;TZID=UTC:20260425T210000
DTSTAMP:20260422T104221
CREATED:20260306T165438Z
LAST-MODIFIED:20260407T144409Z
UID:2159-1777145400-1777150800@viveceuta.es
SUMMARY:El Renacer
DESCRIPTION:En 2024 la compañía estrena El Renacer en la Sala Roja de Teatros del Canal y continúa de gira con los diferentes espectáculos de su repertorio. \nLa compañía de Sara Calero ha producido hasta la fecha 8 espectáculos para teatro\, entre otros\, “Petisa Loca”\, “Zona cero”\, “El mirar de la maja”\, “De la Cal”\, “La Finitud” y “El Renacer”\, además de obras para espacios no convencionales. La compañía ha pasado por importantes programaciones como el Festival Flamenco de Toulouse\, Vancouver Flamenco Festival\, Festival Esch de Luxemburgo\, Festival Internacional de Nuevo México entre otros. Desde el estreno de su primer espectáculo ha ido cosechando éxitos y su presencia en los festivales nacionales e internacionales se ha consolidado. \nSin duda\, Sara Calero es uno de los principales referentes actuales en la renovación de la danza española y el baile flamenco. Sara Calero parte de una sólida formación clásica y de su experiencia en compañías tan significativas como Ballet Nacional de España\, Compañía de Antonio Márquez o Compañía Ibérica de Danza\, y su talento ha brillado junto a primeras figuras del flamenco como Carmen Linares o Esperanza Fernández.
URL:https://viveceuta.es/evento/el-renacer/
LOCATION:Ceuta
CATEGORIES:Destacado,Espectáculo,Flamenco
ATTACH;FMTTYPE=image/webp:https://viveceuta.es/wp-content/uploads/2026/03/viveceuta_img109.webp
END:VEVENT
BEGIN:VEVENT
DTSTART;TZID=UTC:20260503T120000
DTEND;TZID=UTC:20260503T133000
DTSTAMP:20260422T104221
CREATED:20260410T104259Z
LAST-MODIFIED:20260410T105635Z
UID:2627-1777809600-1777815000@viveceuta.es
SUMMARY:Tributo las Guerreras K-Pop
DESCRIPTION:“Tributo Las Guerreras K-Pop” es un espectáculo lleno de energía inspirado en el fenómeno mundial del pop coreano. Un show pensado para todos los públicos que combina baile\, música y una potente puesta en escena\, recreando los éxitos y coreografías más icónicas del K-Pop. Una oportunidad perfecta para disfrutar en directo de un espectáculo vibrante que hará cantar y bailar a fans y curiosos por igual.
URL:https://viveceuta.es/evento/tributo-las-guerreras-k-pop/
LOCATION:Teatro Auditorio del Revellín\, Plaza Nelson Mandela\, Ceuta\, Ceuta\, 51001\, Spain
CATEGORIES:Concierto,Destacado
ATTACH;FMTTYPE=image/webp:https://viveceuta.es/wp-content/uploads/2026/04/viveceuta_img153.webp
END:VEVENT
BEGIN:VEVENT
DTSTART;TZID=UTC:20260509T193000
DTEND;TZID=UTC:20260509T213000
DTSTAMP:20260422T104221
CREATED:20260410T105614Z
LAST-MODIFIED:20260410T105650Z
UID:2632-1778355000-1778362200@viveceuta.es
SUMMARY:El Retablo de las Maravillas
DESCRIPTION:Esta adaptación de El Retablo de las Maravillas conecta la sátira de Miguel de Cervantes con la sociedad actual. En una época dominada por el móvil y la inteligencia artificial\, seguimos cayendo en los mismos engaños que denunciaba el clásico: farsantes que\, disfrazados de gurús\, venden discursos vacíos aprovechándose del miedo a llevar la contraria. \nHoy\, como entonces\, muchos prefieren aceptar la farsa antes que reconocer que no hay nada detrás del “retablo”. Una crítica mordaz y muy actual sobre la manipulación\, el poder y la facilidad con la que la sociedad puede dejarse engañar.
URL:https://viveceuta.es/evento/el-retablo-de-las-maravillas/
LOCATION:Teatro Auditorio del Revellín\, Plaza Nelson Mandela\, Ceuta\, Ceuta\, 51001\, Spain
CATEGORIES:Destacado,Teatro
ATTACH;FMTTYPE=image/webp:https://viveceuta.es/wp-content/uploads/2026/04/elretablodelasmaravillas.webp
END:VEVENT
BEGIN:VEVENT
DTSTART;TZID=UTC:20260516T200000
DTEND;TZID=UTC:20260516T213000
DTSTAMP:20260422T104221
CREATED:20260226T145027Z
LAST-MODIFIED:20260410T105646Z
UID:2128-1778961600-1778967000@viveceuta.es
SUMMARY:Chisteando
DESCRIPTION:Llega a Ceuta «Chisteando»\, el show de comedia de Fernando Bernal y Juancho Bernabe. El espectáculo de humor perfecto para romper con la rutina y disfrutar de una velada inolvidable. Prepárate para un show donde las carcajadas\, la diversión y el buen rollo están garantizados desde el primer minuto. ¡El mejor plan para ponerle una sonrisa a tu semana!
URL:https://viveceuta.es/evento/chisteando/
LOCATION:Teatro Auditorio del Revellín\, Plaza Nelson Mandela\, Ceuta\, Ceuta\, 51001\, Spain
CATEGORIES:Comedia,Destacado
ATTACH;FMTTYPE=image/webp:https://viveceuta.es/wp-content/uploads/2026/02/viveceuta_img104.webp
END:VEVENT
END:VCALENDAR